BEGIN:VCALENDAR
VERSION:2.0
PRODID:-//GASC - Miami - ECPv6.15.20//NONSGML v1.0//EN
CALSCALE:GREGORIAN
METHOD:PUBLISH
X-ORIGINAL-URL:https://gascmiami.org
X-WR-CALDESC:Events for GASC - Miami
REFRESH-INTERVAL;VALUE=DURATION:PT1H
X-Robots-Tag:noindex
X-PUBLISHED-TTL:PT1H
BEGIN:VTIMEZONE
TZID:America/New_York
BEGIN:DAYLIGHT
TZOFFSETFROM:-0500
TZOFFSETTO:-0400
TZNAME:EDT
DTSTART:20240310T070000
END:DAYLIGHT
BEGIN:STANDARD
TZOFFSETFROM:-0400
TZOFFSETTO:-0500
TZNAME:EST
DTSTART:20241103T060000
END:STANDARD
BEGIN:DAYLIGHT
TZOFFSETFROM:-0500
TZOFFSETTO:-0400
TZNAME:EDT
DTSTART:20250309T070000
END:DAYLIGHT
BEGIN:STANDARD
TZOFFSETFROM:-0400
TZOFFSETTO:-0500
TZNAME:EST
DTSTART:20251102T060000
END:STANDARD
BEGIN:DAYLIGHT
TZOFFSETFROM:-0500
TZOFFSETTO:-0400
TZNAME:EDT
DTSTART:20260308T070000
END:DAYLIGHT
BEGIN:STANDARD
TZOFFSETFROM:-0400
TZOFFSETTO:-0500
TZNAME:EST
DTSTART:20261101T060000
END:STANDARD
END:VTIMEZONE
BEGIN:VEVENT
DTSTART;TZID=America/New_York:20251206T110000
DTEND;TZID=America/New_York:20251206T200000
DTSTAMP:20260420T102955
CREATED:20251023T134454Z
LAST-MODIFIED:20251204T163232Z
UID:10000021-1765018800-1765051200@gascmiami.org
SUMMARY:Miami Christmas Market 2025
DESCRIPTION:Miami Christmas Market 2025\nA Festive German Holiday Tradition!\nGet ready to experience the magic of the holidays at the Miami Christmas Market\, hosted by the German American Social Club of Greater Miami!\nJoin us on Saturday\, December 6th\, 2025\, from 11:00 AM to 8:00 PM for a day filled with festive charm\, delicious German specialties\, and holiday cheer. \nStroll through our outdoor Christmas market featuring a variety of local vendors offering handcrafted gifts\, ornaments\, and holiday treats. Enjoy authentic German food\, warm Glühwein (mulled wine)\, and festive beverages while the sound of live Christmas music fills the air. \nThis family-friendly event is perfect for all ages — with traditional holiday decorations\, kids’ activities\, and cozy outdoor seating areas that capture the spirit of a true German Weihnachtsmarkt right here in Miami. \nBring your friends\, family\, and festive spirit — and make the Miami Christmas Market part of your holiday tradition!\n🎄 Date: Saturday\, December 6th\, 2025\n🕚 Time: 11:00 AM – 8:00 PM\n📍 Location: German American Social Club of Greater Miami\, 11919 SW 56th St\, Miami\, FL\n✨ Admission: Free entry | Food & drinks available for purchase \n  \nGet Your Free Tickets for Christmas Market Miami\nAfter a successful Oktoberfest Miami\, the GASC is hosting Miami’s biggest Christmas Market. \n120+ vendors · German food & drinks · Live music · Santa visits \nTickets are free but capacity is limited — RSVP now to secure your spot. \n  \nGet Free Tickets\n \n  \n  \nPlan your visit and celebrate the season with us! \n🔗 Learn More: https://gascmiami.org/christmas-market-miami/
URL:https://gascmiami.org/event/miami-christmas-market-2025/
LOCATION:German American Social Club of Greater Miami\, 11919 SW 56th St\, Miami\, FL\, 33175\, United States
CATEGORIES:Annual Events
ATTACH;FMTTYPE=image/jpeg:https://gascmiami.org/wp-content/uploads/2025/10/christmas-market-2023-11.jpg
ORGANIZER;CN="German American Social Club of Greater Miami":MAILTO:info@gascmiami.org
END:VEVENT
END:VCALENDAR